BEGIN:VCALENDAR
PRODID:-//eluceo/ical//2.0/EN
VERSION:2.0
CALSCALE:GREGORIAN
BEGIN:VEVENT
UID:c4bc5544c6c4ffbe258353013271bc0f
DTSTAMP:20260420T071733Z
SUMMARY:5:30pm JCC Annual Meeting
DESCRIPTION:Shalom Lehigh Valley\nCommunity Calendar\nhttps://shalomlehighv
 alley.org/calendar/530pm-jcc-annual-meeting-june-300900\n\nJoin us for our
  JCC annual meeting virtually.  Details will be forthcoming.
DTSTART;TZID=America/New_York:20200630T173000
DTEND;TZID=America/New_York:20200630T183000
END:VEVENT
END:VCALENDAR
