BEGIN:VCALENDAR
PRODID:-//eluceo/ical//2.0/EN
VERSION:2.0
CALSCALE:GREGORIAN
BEGIN:VEVENT
UID:14a20c9250bebcadb2673304a2b544f5
DTSTAMP:20260420T163244Z
SUMMARY:5:30pm JCC Board of Directors Meeting
DESCRIPTION:Shalom Lehigh Valley\nCommunity Calendar\nhttps://shalomlehighv
 alley.org/calendar/530pm-jcc-board-of-directors-meeting-300905\n\nJCC Boar
 d of Directors Meeting
DTSTART;TZID=America/New_York:20200326T173000
DTEND;TZID=America/New_York:20200326T213000
END:VEVENT
END:VCALENDAR
