BEGIN:VCALENDAR
PRODID:-//eluceo/ical//2.0/EN
VERSION:2.0
CALSCALE:GREGORIAN
BEGIN:VEVENT
UID:95deadc8b1095bdb07cbef0ed544211a
DTSTAMP:20260420T145717Z
SUMMARY:5:30pm JCC Golf League
DESCRIPTION:Shalom Lehigh Valley\nCommunity Calendar\nhttps://shalomlehighv
 alley.org/calendar/530pm-jcc-golf-league-422683\n\nPlayers are assigned a 
 partner for the 5-week session\, and compete against a different twosome i
 n a one-hour match each week. The format is alternate-shot match play\, wi
 th the top-scoring teams advancing to the championship tournament the fina
 l week.
DTSTART;TZID=America/New_York:20230110T173000
DTEND;TZID=America/New_York:20230110T203000
END:VEVENT
END:VCALENDAR
