BEGIN:VCALENDAR
PRODID:-//eluceo/ical//2.0/EN
VERSION:2.0
CALSCALE:GREGORIAN
BEGIN:VEVENT
UID:e47f5caf8c500c29865b7a901885f80e
DTSTAMP:20260419T205716Z
SUMMARY:5:30PM JCC jDines at Curious Goods at the Bake Oven Inn
DESCRIPTION:Shalom Lehigh Valley\nCommunity Calendar\nhttps://shalomlehighv
 alley.org/calendar/530pm-jcc-jdines-at-curious-goods-at-the-bake-oven-inn-
 3732\n\n5:30 PM jDines at Curious Goods at Bake Oven Inn
DTSTART;TZID=America/New_York:20140112T173000
DTEND;TZID=America/New_York:20140112T220000
END:VEVENT
END:VCALENDAR
