BEGIN:VCALENDAR
PRODID:-//eluceo/ical//2.0/EN
VERSION:2.0
CALSCALE:GREGORIAN
BEGIN:VEVENT
UID:7f24c18542155045637d06d9ccc76e82
DTSTAMP:20260419T224525Z
SUMMARY:5:30 pm JCC New Board Orientation
DESCRIPTION:Shalom Lehigh Valley\nCommunity Calendar\nhttps://shalomlehighv
 alley.org/calendar/530pm-jcc-new-board-orientation-8-14-15-147862\n\nConta
 ct Jeffrey Rembrandt: jrembrandt@lvjcc.org or 610-435-3571 x120
DTSTART;TZID=America/New_York:20150804T173000
DTEND;TZID=America/New_York:20150804T203000
END:VEVENT
END:VCALENDAR
