BEGIN:VCALENDAR
PRODID:-//eluceo/ical//2.0/EN
VERSION:2.0
CALSCALE:GREGORIAN
BEGIN:VEVENT
UID:1b9ea02a2dad94ad79849a2c006888b4
DTSTAMP:20260423T014854Z
SUMMARY:5:30pm JCC Shabbat on the Lawn
DESCRIPTION:Shalom Lehigh Valley\nCommunity Calendar\nhttps://shalomlehighv
 alley.org/calendar/530pm-jcc-shabbat-on-the-lawn-390491\n\nCommunity Shabb
 at celebration on the lawn\n"Shabbat Kit" to go\n$5/family registration
DTSTART;TZID=America/New_York:20211008T173000
DTEND;TZID=America/New_York:20211008T181500
END:VEVENT
END:VCALENDAR
