BEGIN:VCALENDAR
PRODID:-//eluceo/ical//2.0/EN
VERSION:2.0
CALSCALE:GREGORIAN
BEGIN:VEVENT
UID:fbfb883844906146cedc3c23d69f8444
DTSTAMP:20260421T085202Z
SUMMARY:5:30 pm JCC Thirsty Thursdays: Social Hour at the J
DESCRIPTION:Shalom Lehigh Valley\nCommunity Calendar\nhttps://shalomlehighv
 alley.org/calendar/530pm-jcc-thirsty-thursdays-social-hour-at-the-j-July-1
 24487\n\nLight refreshments (including adult beverages) will be served. Co
 ntact Amy Sams: asams@lvjcc.org or 610-435-3571.
DTSTART;TZID=America/New_York:20150702T173000
DTEND;TZID=America/New_York:20150702T183000
END:VEVENT
END:VCALENDAR
