BEGIN:VCALENDAR
PRODID:-//eluceo/ical//2.0/EN
VERSION:2.0
CALSCALE:GREGORIAN
BEGIN:VEVENT
UID:94b6802694fe50892b299a57858a68e8
DTSTAMP:20260421T062623Z
SUMMARY:5:30pm JDS Community Chanukah Celebration
DESCRIPTION:Shalom Lehigh Valley\nCommunity Calendar\nhttps://shalomlehighv
 alley.org/calendar/530pm-jds-community-chanukah-celebration-302098\n\nJDS 
 Community Chanukah Celebration
DTSTART;TZID=America/New_York:20191218T173000
DTEND;TZID=America/New_York:20191218T193000
END:VEVENT
END:VCALENDAR
