BEGIN:VCALENDAR
PRODID:-//eluceo/ical//2.0/EN
VERSION:2.0
CALSCALE:GREGORIAN
BEGIN:VEVENT
UID:a7aa3eaf3ceff39df909652ce9850bc7
DTSTAMP:20260419T143617Z
SUMMARY:5:30PM JFLV Executive Committee Meeting
DESCRIPTION:Shalom Lehigh Valley\nCommunity Calendar\nhttps://shalomlehighv
 alley.org/calendar/530pm-jflv-executive-committee-meeting52819-289088\n\nE
 xecutive Committee Meeting
DTSTART;TZID=America/New_York:20190528T173000
DTEND;TZID=America/New_York:20190528T190000
END:VEVENT
END:VCALENDAR
