BEGIN:VCALENDAR
PRODID:-//eluceo/ical//2.0/EN
VERSION:2.0
CALSCALE:GREGORIAN
BEGIN:VEVENT
UID:4c099a39eab7416f389760ea4e3cc24c
DTSTAMP:20260419T160709Z
SUMMARY:5:45 pm JFLV Executive Committee Dinner Meeting
DESCRIPTION:Shalom Lehigh Valley\nCommunity Calendar\nhttps://shalomlehighv
 alley.org/calendar/545-pm-jflv-executive-committee-dinner-meeting-11-2-17-
 230597\n\nContact Mark Goldstein: markg@jflv.org or 610-821-5500 x325.
DTSTART;TZID=America/New_York:20171102T174500
DTEND;TZID=America/New_York:20171102T190000
END:VEVENT
END:VCALENDAR
