BEGIN:VCALENDAR
PRODID:-//eluceo/ical//2.0/EN
VERSION:2.0
CALSCALE:GREGORIAN
BEGIN:VEVENT
UID:614e2a254a3322a447118584f7d1e59e
DTSTAMP:20260421T032247Z
SUMMARY:5:45 PM KI 8th Annual Super Shabbat Seder
DESCRIPTION:Shalom Lehigh Valley\nCommunity Calendar\nhttps://shalomlehighv
 alley.org/calendar/545-pm-ki-8th-annual-super-shabbat-seder-304525\n\nAdul
 ts over age 12: $25/members\; $32/guests\; Kids 6-12: $18/members\; $22/gu
 ests\; under 6: FREE.  RSVP by Tuesday April 9 with payment to Keneseth I
 srael\, 2227 W. Chew Street or online at kilv.org.  Featuring Rabbi Seth 
 and catering by Chef Eric with all the traditional favorites.  Eat\, drin
 k\, sing and learn together in community as we tell the age old tale of ou
 r escape from Egypt.  Questions?  Call the KI office at (610) 435-9074.
DTSTART;TZID=America/New_York:20190419T174500
DTEND;TZID=America/New_York:20190419T204500
END:VEVENT
END:VCALENDAR
