BEGIN:VCALENDAR
PRODID:-//eluceo/ical//2.0/EN
VERSION:2.0
CALSCALE:GREGORIAN
BEGIN:VEVENT
UID:f2800f90b47332b0f348388e0cd6b7e9
DTSTAMP:20260419T215257Z
SUMMARY:5:45 PM KI 9th Annual Super Shabbat Seder
DESCRIPTION:Shalom Lehigh Valley\nCommunity Calendar\nhttps://shalomlehighv
 alley.org/calendar/545-pm-ki-9th-annual-super-shabbat-seder-403169\n\nKI's
  9th Annual Super Shabbat Seder\n\n \n\nFeaturing: Rabbi Seth and traditi
 onal foods by Chef Eric  \n\nThis is an IN-PERSON event!\n\nLimited seat
 ing so be sure to RSVP ASAP!\n \n\n\nDATE: Friday\, April 15\, 2022\nTIME
 : 5:45 pm\nCOST:\n\n$25/adult (non member $32)\;\n$18/child 6—12 (non me
 mber $22)\nUnder 6—FREE (note: online payments for children under 6 is $
 0.01) \n\n\n\n\nRSVP by Wednesday\, April 6th\, 2022. Click HERE to regis
 ter online.\n\n~ Come by yourself or with ...
DTSTART;TZID=America/New_York:20220415T174500
DTEND;TZID=America/New_York:20220415T200000
END:VEVENT
END:VCALENDAR
