BEGIN:VCALENDAR
PRODID:-//eluceo/ical//2.0/EN
VERSION:2.0
CALSCALE:GREGORIAN
BEGIN:VEVENT
UID:e3d39378fdade3c9b610647469187793
DTSTAMP:20260424T081313Z
SUMMARY:6pm JCC Finance Committee Meeting
DESCRIPTION:Shalom Lehigh Valley\nCommunity Calendar\nhttps://shalomlehighv
 alley.org/calendar/5pm-jcc-finance-committee-meeting-dec-380157\n\nJCC Fin
 ance Committee Meeting
DTSTART;TZID=America/New_York:20210526T180000
DTEND;TZID=America/New_York:20210526T190000
END:VEVENT
END:VCALENDAR
