BEGIN:VCALENDAR
PRODID:-//eluceo/ical//2.0/EN
VERSION:2.0
CALSCALE:GREGORIAN
BEGIN:VEVENT
UID:e951cce545de74e8e19fd1ad80e2e000
DTSTAMP:20260419T142344Z
SUMMARY:6:00 pm JFS New Board Member Orientation 2nd Session
DESCRIPTION:Shalom Lehigh Valley\nCommunity Calendar\nhttps://shalomlehighv
 alley.org/calendar/6-pm-jfs-new-board-member-orientation-2nd-session-14361
 89493-152661\n\nContact Debbie Zoller: 610-821-8722 or dzoller@jfslv.org
DTSTART;TZID=America/New_York:20150721T180000
DTEND;TZID=America/New_York:20150721T210000
END:VEVENT
END:VCALENDAR
