BEGIN:VCALENDAR
PRODID:-//eluceo/ical//2.0/EN
VERSION:2.0
CALSCALE:GREGORIAN
BEGIN:VEVENT
UID:b9a72f71a6ceb1a6181c4566cc81d5dd
DTSTAMP:20260419T194950Z
SUMMARY:6 PM KI Potluck for Young Families
DESCRIPTION:Shalom Lehigh Valley\nCommunity Calendar\nhttps://shalomlehighv
 alley.org/calendar/6-pm-ki-potluck-for-young-families-405791\n\nYoung Fami
 ly Potluck\n\nDate: Friday\, May 27\, 2022\n\nTime: 6:00 pm\n\nServices be
 gin at 7:00pm.\n\nRSVP by registering HERE\, confirming what you are bring
 ing and how many are coming.  We look forward to seeing you!
DTSTART;TZID=America/New_York:20220527T180000
DTEND;TZID=America/New_York:20220527T200000
END:VEVENT
END:VCALENDAR
