BEGIN:VCALENDAR
PRODID:-//eluceo/ical//2.0/EN
VERSION:2.0
CALSCALE:GREGORIAN
BEGIN:VEVENT
UID:a0261d45247828f92ac6479318cf58d2
DTSTAMP:20260420T214143Z
SUMMARY:6 pm TBE Sukkot Dinner
DESCRIPTION:Shalom Lehigh Valley\nCommunity Calendar\nhttps://shalomlehighv
 alley.org/calendar/6-pm-tbe-sukkot-dinner-403536\n\n6 pm - TBE Sukkot Dinn
 er
DTSTART;TZID=America/New_York:20221014T180000
DTEND;TZID=America/New_York:20221014T200000
END:VEVENT
END:VCALENDAR
