BEGIN:VCALENDAR
PRODID:-//eluceo/ical//2.0/EN
VERSION:2.0
CALSCALE:GREGORIAN
BEGIN:VEVENT
UID:ce80da00e10976ec4efdc7b14c4e849b
DTSTAMP:20260420T125838Z
SUMMARY:6:00 pm BAS/TCP 180 Club Dinner and Raffle
DESCRIPTION:Shalom Lehigh Valley\nCommunity Calendar\nhttps://shalomlehighv
 alley.org/calendar/600-pm-bastcp-180-club-dinner-and-raffle-1501267412-240
 623\n\nContact Judith Walker at judithwlkr@gmail.com or 610-905-9628.
DTSTART;TZID=America/New_York:20170830T180000
DTEND;TZID=America/New_York:20170830T210000
END:VEVENT
END:VCALENDAR
