BEGIN:VCALENDAR
PRODID:-//eluceo/ical//2.0/EN
VERSION:2.0
CALSCALE:GREGORIAN
BEGIN:VEVENT
UID:2d78818a84bcec85b5f05ef425f9f79a
DTSTAMP:20260420T092053Z
SUMMARY:6:00 pm CBS Chanukah Goes Global Shabbot Dinner
DESCRIPTION:Shalom Lehigh Valley\nCommunity Calendar\nhttps://shalomlehighv
 alley.org/calendar/600-pm-cbs-chanukah-goes-global-shabbot-dinner-128072\n
 \nChanukah Goes Global Shabbot Dinner and Game Night promises to be fun fo
 r all ages.
DTSTART;TZID=America/New_York:20141219T180000
DTEND;TZID=America/New_York:20141219T210000
END:VEVENT
END:VCALENDAR
