BEGIN:VCALENDAR
PRODID:-//eluceo/ical//2.0/EN
VERSION:2.0
CALSCALE:GREGORIAN
BEGIN:VEVENT
UID:44000252e2298713b5deee2c7cde808d
DTSTAMP:20260419T145237Z
SUMMARY:6:00 pm CBS Old Fashioned Shabbat Dinner
DESCRIPTION:Shalom Lehigh Valley\nCommunity Calendar\nhttps://shalomlehighv
 alley.org/calendar/600-pm-cbs-old-fashioned-shabbat-dinner-1-19-18-241976\
 n\nReservations required by 1-12-18. Call Tammy Watts 610-866-8009 for res
 ervations & more info.
DTSTART;TZID=America/New_York:20180119T180000
DTEND;TZID=America/New_York:20180119T210000
END:VEVENT
END:VCALENDAR
