BEGIN:VCALENDAR
PRODID:-//eluceo/ical//2.0/EN
VERSION:2.0
CALSCALE:GREGORIAN
BEGIN:VEVENT
UID:dc4dc78ae0a9f73e98fcbb8f515ff4a5
DTSTAMP:20260420T112648Z
SUMMARY:6:00 pm JCC Behavior Management Presentation
DESCRIPTION:Shalom Lehigh Valley\nCommunity Calendar\nhttps://shalomlehighv
 alley.org/calendar/600-pm-jcc-behavior-management-presentation-3-12-18-255
 246\n\nInterested participants must register at the JCC Welcome Desk. Tick
 ets: $12 JCC member\; $15 non-member.
DTSTART;TZID=America/New_York:20180312T180000
DTEND;TZID=America/New_York:20180312T210000
END:VEVENT
END:VCALENDAR
