BEGIN:VCALENDAR
PRODID:-//eluceo/ical//2.0/EN
VERSION:2.0
CALSCALE:GREGORIAN
BEGIN:VEVENT
UID:be41dcf13ef9451f8e040bd7f92738b6
DTSTAMP:20260419T185110Z
SUMMARY:6:00 pm JCC Stagemakers Performance Seussical Jr.
DESCRIPTION:Shalom Lehigh Valley\nCommunity Calendar\nhttps://shalomlehighv
 alley.org/calendar/600-pm-jcc-stagemakers-performance-seussical-jr-90889\n
 \nContact Brenda Finberg 610-435-3571 or bfinberg@lvjcc.org.
DTSTART;TZID=America/New_York:20150730T180000
DTEND;TZID=America/New_York:20150730T200000
END:VEVENT
END:VCALENDAR
