BEGIN:VCALENDAR
PRODID:-//eluceo/ical//2.0/EN
VERSION:2.0
CALSCALE:GREGORIAN
BEGIN:VEVENT
UID:0db9ef3a7f121106b0822cc08deecf59
DTSTAMP:20260419T233047Z
SUMMARY:6:00 pm JDS 8th Grade Graduation
DESCRIPTION:Shalom Lehigh Valley\nCommunity Calendar\nhttps://shalomlehighv
 alley.org/calendar/600-pm-jds-8th-grade-graduation-229648\n\nContact Adrie
 nne Manger: amanger@jdslv.org or 610-437-0721.
DTSTART;TZID=America/New_York:20170612T180000
DTEND;TZID=America/New_York:20170612T200000
END:VEVENT
END:VCALENDAR
