BEGIN:VCALENDAR
PRODID:-//eluceo/ical//2.0/EN
VERSION:2.0
CALSCALE:GREGORIAN
BEGIN:VEVENT
UID:7b001e1c34249a5c912f841499e536fd
DTSTAMP:20260420T112906Z
SUMMARY:6:00 pm JDS Arts Fest
DESCRIPTION:Shalom Lehigh Valley\nCommunity Calendar\nhttps://shalomlehighv
 alley.org/calendar/600-pm-jds-arts-fest-6-7-17-229160\n\nContact Adrienne 
 Manger: amanger@jdslv.org or 610-437-0721.
DTSTART;TZID=America/New_York:20170607T180000
DTEND;TZID=America/New_York:20170607T190000
END:VEVENT
END:VCALENDAR
