BEGIN:VCALENDAR
PRODID:-//eluceo/ical//2.0/EN
VERSION:2.0
CALSCALE:GREGORIAN
BEGIN:VEVENT
UID:25437988bdcc79b79e93c55de59fb3a2
DTSTAMP:20260420T225211Z
SUMMARY:6:00 PM KI Early Confrimation/Shavuot Service & Potluck
DESCRIPTION:Shalom Lehigh Valley\nCommunity Calendar\nhttps://shalomlehighv
 alley.org/calendar/600-pm-ki-early-confrimationshavuot-service-potluck-317
 101\n\nShabbat service
DTSTART;TZID=America/New_York:20200529T180000
DTEND;TZID=America/New_York:20200529T200000
END:VEVENT
END:VCALENDAR
