BEGIN:VCALENDAR
PRODID:-//eluceo/ical//2.0/EN
VERSION:2.0
CALSCALE:GREGORIAN
BEGIN:VEVENT
UID:5deb08caa5ba2519ba3e718d95ad5266
DTSTAMP:20260419T231052Z
SUMMARY:6:00 pm KI in Concert
DESCRIPTION:Shalom Lehigh Valley\nCommunity Calendar\nhttps://shalomlehighv
 alley.org/calendar/600-pm-ki-in-concert-12-12-15-136224\n\nMore details to
  come. Contact Vikki Dunn: vdunn@kilv.org or 610-435-9074.
DTSTART;TZID=America/New_York:20151212T180000
DTEND;TZID=America/New_York:20151212T210000
END:VEVENT
END:VCALENDAR
