BEGIN:VCALENDAR
PRODID:-//eluceo/ical//2.0/EN
VERSION:2.0
CALSCALE:GREGORIAN
BEGIN:VEVENT
UID:61282d890327755842afe91829f02c31
DTSTAMP:20260419T173441Z
SUMMARY:6:00 pm KI KIddush and KIbbitz
DESCRIPTION:Shalom Lehigh Valley\nCommunity Calendar\nhttps://shalomlehighv
 alley.org/calendar/600-pm-ki-kiddush-and-kibbitz-2-12-16-147129\n\nContact
  Vikki Dunn: vdunn@kilv.org or 610-435-9074.
DTSTART;TZID=America/New_York:20160212T180000
DTEND;TZID=America/New_York:20160212T191500
END:VEVENT
END:VCALENDAR
