BEGIN:VCALENDAR
PRODID:-//eluceo/ical//2.0/EN
VERSION:2.0
CALSCALE:GREGORIAN
BEGIN:VEVENT
UID:50e37394a3218f51db699f24a2ae37cd
DTSTAMP:20260419T171128Z
SUMMARY:6:00 pm KI Shabbat Under the Stars
DESCRIPTION:Shalom Lehigh Valley\nCommunity Calendar\nhttps://shalomlehighv
 alley.org/calendar/600-pm-ki-shabbat-under-the-stars-6-22-18-267194\n\nReg
 ister on-line at www.kilv.org-click on the Shabbat Under the Stars link. O
 r call the office at 610-435-9074.
DTSTART;TZID=America/New_York:20180622T180000
DTEND;TZID=America/New_York:20180622T210000
END:VEVENT
END:VCALENDAR
