BEGIN:VCALENDAR
PRODID:-//eluceo/ical//2.0/EN
VERSION:2.0
CALSCALE:GREGORIAN
BEGIN:VEVENT
UID:38540b5a4ca618ee90b17133a1fc3dde
DTSTAMP:20260420T054656Z
SUMMARY:6:00 pm Scholar-in-Residence Weekend with Dr. Ron Wolfson
DESCRIPTION:Shalom Lehigh Valley\nCommunity Calendar\nhttps://shalomlehighv
 alley.org/calendar/600-pm-scholar-in-residence-weekend-with-dr-ron-wolfson
 -168885\n\nQuestions? Call Keneseth Israel office at 610-435-9074 or Templ
 e Beth El office at 610-435-3521.
DTSTART;TZID=America/New_York:20160401T180000
DTEND;TZID=America/New_York:20160402T220000
END:VEVENT
END:VCALENDAR
