BEGIN:VCALENDAR
PRODID:-//eluceo/ical//2.0/EN
VERSION:2.0
CALSCALE:GREGORIAN
BEGIN:VEVENT
UID:e53f644e6a6de61fe6c38b7532c6e39b
DTSTAMP:20260419T230031Z
SUMMARY:6:00 PM SOI Annual Event
DESCRIPTION:Shalom Lehigh Valley\nCommunity Calendar\nhttps://shalomlehighv
 alley.org/calendar/600-pm-soi-annual-event-285685\n\nCongregation Sons of 
 Israel's Annual Event will be held on Sunday evening\, March 31\, 2019.
DTSTART;TZID=America/New_York:20190331T180000
DTEND;TZID=America/New_York:20190331T220000
END:VEVENT
END:VCALENDAR
