BEGIN:VCALENDAR
PRODID:-//eluceo/ical//2.0/EN
VERSION:2.0
CALSCALE:GREGORIAN
BEGIN:VEVENT
UID:9d3db2ca614d0dd99ce4239ac16ba8ed
DTSTAMP:20260419T185321Z
SUMMARY:6:00 pm TBE Board Dinner and Meeting June 2020
DESCRIPTION:Shalom Lehigh Valley\nCommunity Calendar\nhttps://shalomlehighv
 alley.org/calendar/600-pm-tbe-board-dinner-and-meeting-june-2020-305437\n\
 n6:00 pm TBE Board and Dinner Meeting June 2020
DTSTART;TZID=America/New_York:20200610T180000
DTEND;TZID=America/New_York:20200610T193000
END:VEVENT
END:VCALENDAR
