BEGIN:VCALENDAR
PRODID:-//eluceo/ical//2.0/EN
VERSION:2.0
CALSCALE:GREGORIAN
BEGIN:VEVENT
UID:8576f41ad51961562c84d82f74f84e0a
DTSTAMP:20260420T004921Z
SUMMARY:6:00 pm TBE Chanukah Shabbat Dinner
DESCRIPTION:Shalom Lehigh Valley\nCommunity Calendar\nhttps://shalomlehighv
 alley.org/calendar/600-pm-tbe-chanukah-shabbat-dinner-12-19-14-62063\n\n $
 40/household (3 or more) or $18/pp. RSVP by Dec. 5. Reservations & wine pu
 rchase\, contact Ilene 610-435-3521.
DTSTART;TZID=America/New_York:20141219T180000
DTEND;TZID=America/New_York:20141219T193000
END:VEVENT
END:VCALENDAR
