BEGIN:VCALENDAR
PRODID:-//eluceo/ical//2.0/EN
VERSION:2.0
CALSCALE:GREGORIAN
BEGIN:VEVENT
UID:5bd35a4863e34ee6110e6be3f7a64c7d
DTSTAMP:20260421T050421Z
SUMMARY:6:00 pm TBE Dor L' Dor Dinner and Program- Bring your Instruments
DESCRIPTION:Shalom Lehigh Valley\nCommunity Calendar\nhttps://shalomlehighv
 alley.org/calendar/600-pm-tbe-dor-l-dor-dinner-and-program--bring-your-ins
 truments-3509\n\n6:00pm TBE Dor L' Dor Dinner/Prog Bring instrument
DTSTART;TZID=America/New_York:20131011T180000
DTEND;TZID=America/New_York:20131011T193000
END:VEVENT
END:VCALENDAR
