BEGIN:VCALENDAR
PRODID:-//eluceo/ical//2.0/EN
VERSION:2.0
CALSCALE:GREGORIAN
BEGIN:VEVENT
UID:597e17b0ac06d6516067dde496ca6392
DTSTAMP:20260420T152120Z
SUMMARY:6:00 pm TBE Erev Shabbat Service - Grade 4 Service Feb 2020
DESCRIPTION:Shalom Lehigh Valley\nCommunity Calendar\nhttps://shalomlehighv
 alley.org/calendar/600-pm-tbe-erev-shabbat-service-grade-4-service-feb-202
 0-304755\n\n6:00 pm TBE Erev Shabbat Service - Grade 4 Service Feb 2020
DTSTART;TZID=America/New_York:20200228T180000
DTEND;TZID=America/New_York:20200228T190000
END:VEVENT
END:VCALENDAR
