BEGIN:VCALENDAR
PRODID:-//eluceo/ical//2.0/EN
VERSION:2.0
CALSCALE:GREGORIAN
BEGIN:VEVENT
UID:bc18fdee91d58c066e7cd1ec8a0cf622
DTSTAMP:20260419T130828Z
SUMMARY:6:00 pm TBE Erev Shabbat Shira Chadasha Service led by Our Teens
DESCRIPTION:Shalom Lehigh Valley\nCommunity Calendar\nhttps://shalomlehighv
 alley.org/calendar/600-pm-tbe-erev-shabbat-shira-chadasha-service-led-by-o
 ur-teens-1-26-18-224959\n\nContact Michelle Rohrbach: michelle@bethelallen
 town.org or 610-435-3521.
DTSTART;TZID=America/New_York:20180209T180000
DTEND;TZID=America/New_York:20180209T200000
END:VEVENT
END:VCALENDAR
