BEGIN:VCALENDAR
PRODID:-//eluceo/ical//2.0/EN
VERSION:2.0
CALSCALE:GREGORIAN
BEGIN:VEVENT
UID:83ad6f8151d3f457f3b3a2950dbd0a42
DTSTAMP:20260419T123557Z
SUMMARY:6:00 pm TBE Executive Board Meeting
DESCRIPTION:Shalom Lehigh Valley\nCommunity Calendar\nhttps://shalomlehighv
 alley.org/calendar/600-pm-tbe-executive-board-meeting-8-8-18-265650\n\nCon
 tact Michelle Rohrbach: michelle@bethelallentown.org or 610-435-3521.
DTSTART;TZID=America/New_York:20180808T180000
DTEND;TZID=America/New_York:20180808T193000
END:VEVENT
END:VCALENDAR
