BEGIN:VCALENDAR
PRODID:-//eluceo/ical//2.0/EN
VERSION:2.0
CALSCALE:GREGORIAN
BEGIN:VEVENT
UID:886f391b71c62c4f958384bfec141317
DTSTAMP:20260421T140908Z
SUMMARY:6:00 pm TBE Executive Board Meeting Jan 2019
DESCRIPTION:Shalom Lehigh Valley\nCommunity Calendar\nhttps://shalomlehighv
 alley.org/calendar/600-pm-tbe-executive-board-meeting-jan-2019-277865\n\n6
 :\;00 pm TBE Executive Board Meeting Jan. 2019
DTSTART;TZID=America/New_York:20190109T180000
DTEND;TZID=America/New_York:20190109T190000
END:VEVENT
END:VCALENDAR
