BEGIN:VCALENDAR
PRODID:-//eluceo/ical//2.0/EN
VERSION:2.0
CALSCALE:GREGORIAN
BEGIN:VEVENT
UID:590ec566cbff9a52d78bcd95e0ffa0b9
DTSTAMP:20260421T204347Z
SUMMARY:6:00 pm TBE Board and Dinner Meeting
DESCRIPTION:Shalom Lehigh Valley\nCommunity Calendar\nhttps://shalomlehighv
 alley.org/calendar/600-pm-tbe-june-2016-board-dinner-meeting-141184\n\nCon
 tact Michelle Rohrbach: michelle@bethelallentown.org or 610-435-3521.
DTSTART;TZID=America/New_York:20160608T180000
DTEND;TZID=America/New_York:20160608T193000
END:VEVENT
END:VCALENDAR
