BEGIN:VCALENDAR
PRODID:-//eluceo/ical//2.0/EN
VERSION:2.0
CALSCALE:GREGORIAN
BEGIN:VEVENT
UID:04fce6b30edbbd81fa4adc7cff76fc7c
DTSTAMP:20260421T140948Z
SUMMARY:6:00 pm TBE Sisterhood Donor Dinner
DESCRIPTION:Shalom Lehigh Valley\nCommunity Calendar\nhttps://shalomlehighv
 alley.org/calendar/600-pm-tbe-sisterhood-donor-dinner-3534\n\n6:00 pm TBE 
 Sisterhood Donor Dinner
DTSTART;TZID=America/New_York:20140529T180000
DTEND;TZID=America/New_York:20140529T203000
END:VEVENT
END:VCALENDAR
