BEGIN:VCALENDAR
PRODID:-//eluceo/ical//2.0/EN
VERSION:2.0
CALSCALE:GREGORIAN
BEGIN:VEVENT
UID:fdfa32f2299c9334d0e18ee90647c026
DTSTAMP:20260420T184612Z
SUMMARY:6:00 pm TBE Tu B' Shevat Dinner and Program
DESCRIPTION:Shalom Lehigh Valley\nCommunity Calendar\nhttps://shalomlehighv
 alley.org/calendar/600-pm-tbe-tu-b-shevat-dinner-and-program-3523\n\n6:00 
 pm TBE Tu B' Shevat Dinner and Program
DTSTART;TZID=America/New_York:20140117T180000
DTEND;TZID=America/New_York:20140117T193000
END:VEVENT
END:VCALENDAR
