BEGIN:VCALENDAR
PRODID:-//eluceo/ical//2.0/EN
VERSION:2.0
CALSCALE:GREGORIAN
BEGIN:VEVENT
UID:cbefeb8ee138caba7d9c7041ee33eec1
DTSTAMP:20260420T230618Z
SUMMARY:6:00PM JCC Lifeguard Certification Course
DESCRIPTION:Shalom Lehigh Valley\nCommunity Calendar\nhttps://shalomlehighv
 alley.org/calendar/600pm-jcc-lifeguard-certification-course-3554\n\n6:00PM
  JCC Lifeguard Certification Course
DTSTART;TZID=America/New_York:20130422T180000
DTEND;TZID=America/New_York:20130422T210000
END:VEVENT
END:VCALENDAR
