BEGIN:VCALENDAR
PRODID:-//eluceo/ical//2.0/EN
VERSION:2.0
CALSCALE:GREGORIAN
BEGIN:VEVENT
UID:578f1a87f8a0ae6476cc2c5d814f0347
DTSTAMP:20260419T201306Z
SUMMARY:6:30 pm AH Open House: New & Prospective Member Shabbat
DESCRIPTION:Shalom Lehigh Valley\nCommunity Calendar\nhttps://shalomlehighv
 alley.org/calendar/630-pm-ah-open-house-new--prospective-member-shabbat-37
 10\n\n6:30 pm AH Open House: New Member Shabbat
DTSTART;TZID=America/New_York:20131108T183000
DTEND;TZID=America/New_York:20131108T210000
END:VEVENT
END:VCALENDAR
