BEGIN:VCALENDAR
PRODID:-//eluceo/ical//2.0/EN
VERSION:2.0
CALSCALE:GREGORIAN
BEGIN:VEVENT
UID:4a6d2b859312af89ca99eaebee895d3f
DTSTAMP:20260423T030724Z
SUMMARY:6:30 pm JDS Lower Elementary Curriculum Night
DESCRIPTION:Shalom Lehigh Valley\nCommunity Calendar\nhttps://shalomlehighv
 alley.org/calendar/630-pm-jds-lower-elementary-curriculum-night-355424\n\n
 More details to come.\n\nSponsor: Jewish Day School
DTSTART;TZID=America/New_York:20201020T183000
DTEND;TZID=America/New_York:20201020T193000
END:VEVENT
END:VCALENDAR
