BEGIN:VCALENDAR
PRODID:-//eluceo/ical//2.0/EN
VERSION:2.0
CALSCALE:GREGORIAN
BEGIN:VEVENT
UID:6aaf36cb67a608965c62cd9f8cbacbf4
DTSTAMP:20260419T215113Z
SUMMARY:6:30 pm KI Annual Gala
DESCRIPTION:Shalom Lehigh Valley\nCommunity Calendar\nhttps://shalomlehighv
 alley.org/calendar/630-pm-ki-annual-gala-105994\n\nDetails will be coming 
 soon - HOLD THE DATE!
DTSTART;TZID=America/New_York:20150516T183000
DTEND;TZID=America/New_York:20150516T223000
END:VEVENT
END:VCALENDAR
