BEGIN:VCALENDAR
PRODID:-//eluceo/ical//2.0/EN
VERSION:2.0
CALSCALE:GREGORIAN
BEGIN:VEVENT
UID:98365c5d69bfae52b56489cff9b822ac
DTSTAMP:20260420T162413Z
SUMMARY:6:30 pm KI KIddush and KIbbitz
DESCRIPTION:Shalom Lehigh Valley\nCommunity Calendar\nhttps://shalomlehighv
 alley.org/calendar/630-pm-ki-kiddush-and-kibbitz-10-23-15-164559\n\nContac
 t Vikki Dunn: vdunn@kilv.org or 610-435-9074.
DTSTART;TZID=America/New_York:20151023T183000
DTEND;TZID=America/New_York:20151023T191500
END:VEVENT
END:VCALENDAR
