BEGIN:VCALENDAR
PRODID:-//eluceo/ical//2.0/EN
VERSION:2.0
CALSCALE:GREGORIAN
BEGIN:VEVENT
UID:df238c4eef31a0399a63b7f52e7a5a4f
DTSTAMP:20260420T215924Z
SUMMARY:6:30 PM KI Kiddush & Kibbitz 2
DESCRIPTION:Shalom Lehigh Valley\nCommunity Calendar\nhttps://shalomlehighv
 alley.org/calendar/630-pm-ki-kiddush-kibbitz-2A-314878\n\nCome socialize w
 ith wine\, soft drinks\, cheese\, and snacks before services.
DTSTART;TZID=America/New_York:20191108T183000
DTEND;TZID=America/New_York:20191108T191500
END:VEVENT
END:VCALENDAR
