BEGIN:VCALENDAR
PRODID:-//eluceo/ical//2.0/EN
VERSION:2.0
CALSCALE:GREGORIAN
BEGIN:VEVENT
UID:343818f911f40f0f532f4dd42bb90e7e
DTSTAMP:20260419T231032Z
SUMMARY:6:30 pm Partnership2Gether Committee Meeting  3/27
DESCRIPTION:Shalom Lehigh Valley\nCommunity Calendar\nhttps://shalomlehighv
 alley.org/calendar/630-pm-partnership2gether-committee-meeting-327-419166\
 n\nPartnership2Gether Committee Meeting \, JCC Board Room
DTSTART;TZID=America/New_York:20230327T183000
DTEND;TZID=America/New_York:20230327T193000
END:VEVENT
END:VCALENDAR
