BEGIN:VCALENDAR
PRODID:-//eluceo/ical//2.0/EN
VERSION:2.0
CALSCALE:GREGORIAN
BEGIN:VEVENT
UID:4a107bc3b8d202255a0f87bb05587858
DTSTAMP:20260420T142943Z
SUMMARY:6:30pm JCC Auditions for Stagemakers Fall Show
DESCRIPTION:Shalom Lehigh Valley\nCommunity Calendar\nhttps://shalomlehighv
 alley.org/calendar/630pm-jcc-auditions-for-stagemakers-fall-show-336970\n\
 nAuditions for Stagemakers Fall Show
DTSTART;TZID=America/New_York:20200831T183000
DTEND;TZID=America/New_York:20200831T203000
END:VEVENT
END:VCALENDAR
