BEGIN:VCALENDAR
PRODID:-//eluceo/ical//2.0/EN
VERSION:2.0
CALSCALE:GREGORIAN
BEGIN:VEVENT
UID:e71a2d963cc4677d1a6c13c54da76a42
DTSTAMP:20260419T172506Z
SUMMARY:6:30pm JCC Baum School Art Gallery Opening
DESCRIPTION:Shalom Lehigh Valley\nCommunity Calendar\nhttps://shalomlehighv
 alley.org/calendar/630pm-jcc-baum-school-art-gallery-opening-297837\n\nBau
 m School Art Gallery Opening
DTSTART;TZID=America/New_York:20190411T183000
DTEND;TZID=America/New_York:20190411T200000
END:VEVENT
END:VCALENDAR
