BEGIN:VCALENDAR
PRODID:-//eluceo/ical//2.0/EN
VERSION:2.0
CALSCALE:GREGORIAN
BEGIN:VEVENT
UID:357ca81d92841e52e508f4353560fcd2
DTSTAMP:20260421T103925Z
SUMMARY:6:30PM JCC Drum it Away\, Stress-reduction Workshop
DESCRIPTION:Shalom Lehigh Valley\nCommunity Calendar\nhttps://shalomlehighv
 alley.org/calendar/630pm-jcc-drum-it-away-stress-reduction-workshop-3576\n
 \n6:30PM JCC Drum it Away\, Stress-reduction Workshop
DTSTART;TZID=America/New_York:20130619T183000
DTEND;TZID=America/New_York:20130619T203000
END:VEVENT
END:VCALENDAR
