BEGIN:VCALENDAR
PRODID:-//eluceo/ical//2.0/EN
VERSION:2.0
CALSCALE:GREGORIAN
BEGIN:VEVENT
UID:a94a97b5931dc3ecc9c8f6a0de56075e
DTSTAMP:20260423T005338Z
SUMMARY:6:30pm JCC Finance Committee Meeting
DESCRIPTION:Shalom Lehigh Valley\nCommunity Calendar\nhttps://shalomlehighv
 alley.org/calendar/630pm-jcc-finance-committee-meeting-o-388595\n\nJCC fin
 ance committee meeting
DTSTART;TZID=America/New_York:20211215T183000
DTEND;TZID=America/New_York:20211215T193000
END:VEVENT
END:VCALENDAR
